BEGIN:VCALENDAR
METHOD:REQUEST
PRODID:-//events.orgNONSGML ical.net 4.0//EN
VERSION:2.0
BEGIN:VEVENT
DTEND;VALUE=DATE:20260531
DTSTAMP:20260421T094119Z
DTSTART;VALUE=DATE:20260531
LOCATION:Comedy Works\, Denver
ORGANIZER;CN=:mailto:events@events.org
SEQUENCE:0
SUMMARY:Pauly Shore
UID:a6610775-e0b4-459e-827f-a65fcfdb0abd
URL:https://events.org/e/Pauly-Shore/4FPPNKQ9
BEGIN:VALARM
ACTION:DISPLAY
SUMMARY:Reminder
TRIGGER:-P1D
END:VALARM
END:VEVENT
END:VCALENDAR
