BEGIN:VCALENDAR
METHOD:REQUEST
PRODID:-//events.orgNONSGML ical.net 4.0//EN
VERSION:2.0
BEGIN:VEVENT
DTEND;VALUE=DATE:20260504
DTSTAMP:20260423T133150Z
DTSTART;VALUE=DATE:20260504
LOCATION:The Echo Lounge & Music Hall\, Dallas
ORGANIZER;CN=:mailto:events@events.org
SEQUENCE:0
SUMMARY:Natalie Nunn
UID:93262551-65d7-4c00-9c5a-340e61433a47
URL:https://events.org/e/Natalie-Nunn/I5B9GOPP
BEGIN:VALARM
ACTION:DISPLAY
SUMMARY:Reminder
TRIGGER:-P1D
END:VALARM
END:VEVENT
END:VCALENDAR
