BEGIN:VCALENDAR
METHOD:REQUEST
PRODID:-//events.orgNONSGML ical.net 4.0//EN
VERSION:2.0
BEGIN:VEVENT
DTEND;VALUE=DATE:20260717
DTSTAMP:20260424T092046Z
DTSTART;VALUE=DATE:20260717
LOCATION:State Farm Arena\, Atlanta
ORGANIZER;CN=:mailto:events@events.org
SEQUENCE:0
SUMMARY:J. Cole: The Fall-Off Tour
UID:eebdc7b4-e3fc-48d8-a13f-8eed2d767dc4
URL:https://events.org/e/J-Cole-The-Fall-Off-Tour/EK7FBOL7
BEGIN:VALARM
ACTION:DISPLAY
SUMMARY:Reminder
TRIGGER:-P1D
END:VALARM
END:VEVENT
END:VCALENDAR
