BEGIN:VCALENDAR
METHOD:REQUEST
PRODID:-//events.orgNONSGML ical.net 4.0//EN
VERSION:2.0
BEGIN:VEVENT
DTEND;VALUE=DATE:20260607
DTSTAMP:20260421T104513Z
DTSTART;VALUE=DATE:20260607
LOCATION:Meow Wolf Denver\, Denver
ORGANIZER;CN=:mailto:events@events.org
SEQUENCE:0
SUMMARY:Em Beihold
UID:39863e9e-f4d2-4d60-a51f-04353805c93e
URL:https://events.org/e/Em-Beihold/CMACHDVQ
BEGIN:VALARM
ACTION:DISPLAY
SUMMARY:Reminder
TRIGGER:-P1D
END:VALARM
END:VEVENT
END:VCALENDAR
