BEGIN:VCALENDAR
METHOD:REQUEST
PRODID:-//events.orgNONSGML ical.net 4.0//EN
VERSION:2.0
BEGIN:VEVENT
DTEND;VALUE=DATE:20260611
DTSTAMP:20260421T104115Z
DTSTART;VALUE=DATE:20260611
LOCATION:Buell Theatre\, Denver
ORGANIZER;CN=:mailto:events@events.org
SEQUENCE:0
SUMMARY:Harry Potter and the Cursed Child (Touring)
UID:833ed812-d2f5-440c-8704-4a91f318d7ff
URL:https://events.org/e/Harry-Potter-and-the-Cursed-Child-Touring/D9NPBJ9F
BEGIN:VALARM
ACTION:DISPLAY
SUMMARY:Reminder
TRIGGER:-P1D
END:VALARM
END:VEVENT
END:VCALENDAR
