BEGIN:VCALENDAR
METHOD:REQUEST
PRODID:-//events.orgNONSGML ical.net 4.0//EN
VERSION:2.0
BEGIN:VEVENT
DTEND;VALUE=DATE:20260506
DTSTAMP:20260421T095549Z
DTSTART;VALUE=DATE:20260506
LOCATION:Blue Note Los Angeles\, Los Angeles
ORGANIZER;CN=:mailto:events@events.org
SEQUENCE:0
SUMMARY:Bilal - '1st Born Second' Album 25th Anniversary
UID:9e1a0fd5-7377-4026-8d14-e0c902166c81
URL:https://events.org/e/Bilal---1st-Born-Second-Album-25th-Anniversary/C8
 DFEIFL
BEGIN:VALARM
ACTION:DISPLAY
SUMMARY:Reminder
TRIGGER:-P1D
END:VALARM
END:VEVENT
END:VCALENDAR
