BEGIN:VCALENDAR
METHOD:REQUEST
PRODID:-//events.orgNONSGML ical.net 4.0//EN
VERSION:2.0
BEGIN:VEVENT
DTEND;VALUE=DATE:20260614
DTSTAMP:20260421T103601Z
DTSTART;VALUE=DATE:20260614
LOCATION:La Rumba\, Denver
ORGANIZER;CN=:mailto:events@events.org
SEQUENCE:0
SUMMARY:SALSA & BACHATA SUNDAYS
UID:4d4862ea-1fcf-476d-8bbe-eb4032348ad9
URL:https://events.org/e/SALSA-BACHATA-SUNDAYS/R7C2OGAY
BEGIN:VALARM
ACTION:DISPLAY
SUMMARY:Reminder
TRIGGER:-P1D
END:VALARM
END:VEVENT
END:VCALENDAR
