BEGIN:VCALENDAR
METHOD:REQUEST
PRODID:-//events.orgNONSGML ical.net 4.0//EN
VERSION:2.0
BEGIN:VEVENT
DTEND;VALUE=DATE:20260712
DTSTAMP:20260422T090109Z
DTSTART;VALUE=DATE:20260712
LOCATION:The Wilbur\, Boston
ORGANIZER;CN=:mailto:events@events.org
SEQUENCE:0
SUMMARY:Chris Fleming
UID:52388fc3-3564-4a6b-b143-6b506f189fd4
URL:https://events.org/e/Chris-Fleming/3VO34OLG
BEGIN:VALARM
ACTION:DISPLAY
SUMMARY:Reminder
TRIGGER:-P1D
END:VALARM
END:VEVENT
END:VCALENDAR
