BEGIN:VCALENDAR
METHOD:REQUEST
PRODID:-//events.orgNONSGML ical.net 4.0//EN
VERSION:2.0
BEGIN:VEVENT
DTEND;VALUE=DATE:20260705
DTSTAMP:20260421T104219Z
DTSTART;VALUE=DATE:20260705
LOCATION:Coors Field\, Denver
ORGANIZER;CN=:mailto:events@events.org
SEQUENCE:0
SUMMARY:Colorado Rockies vs. San Francisco Giants
UID:cc58a294-212f-49e5-9c86-d2dc2243bc3d
URL:https://events.org/e/Colorado-Rockies-vs-San-Francisco-Giants/27U3Y94E
BEGIN:VALARM
ACTION:DISPLAY
SUMMARY:Reminder
TRIGGER:-P1D
END:VALARM
END:VEVENT
END:VCALENDAR
