BEGIN:VCALENDAR
METHOD:REQUEST
PRODID:-//events.orgNONSGML ical.net 4.0//EN
VERSION:2.0
BEGIN:VEVENT
DTEND;VALUE=DATE:20260422
DTSTAMP:20260422T091832Z
DTSTART;VALUE=DATE:20260422
LOCATION:Madison Square Garden\, New York
ORGANIZER;CN=:mailto:events@events.org
SEQUENCE:0
SUMMARY:Florence + The Machine - Everybody Scream Tour
UID:30f96f87-18c9-42ee-8293-634f8705548d
URL:https://events.org/e/Florence-The-Machine---Everybody-Scream-Tour/2T5O
 9B26
BEGIN:VALARM
ACTION:DISPLAY
SUMMARY:Reminder
TRIGGER:-P1D
END:VALARM
END:VEVENT
END:VCALENDAR
