BEGIN:VCALENDAR
METHOD:REQUEST
PRODID:-//events.orgNONSGML ical.net 4.0//EN
VERSION:2.0
BEGIN:VEVENT
DTEND;VALUE=DATE:20260529
DTSTAMP:20260423T093749Z
DTSTART;VALUE=DATE:20260529
LOCATION:TSDMAAC (Catacombs)\, Detroit
ORGANIZER;CN=:mailto:events@events.org
SEQUENCE:0
SUMMARY:'68
UID:e8afcfcf-4182-468e-b0c8-2955447d0e57
URL:https://events.org/e/68/3YOVHJIQ
BEGIN:VALARM
ACTION:DISPLAY
SUMMARY:Reminder
TRIGGER:-P1D
END:VALARM
END:VEVENT
END:VCALENDAR
