BEGIN:VCALENDAR
METHOD:REQUEST
PRODID:-//events.orgNONSGML ical.net 4.0//EN
VERSION:2.0
BEGIN:VEVENT
DTEND;VALUE=DATE:20260628
DTSTAMP:20260421T224557Z
DTSTART;VALUE=DATE:20260628
LOCATION:Valley Bar\, Phoenix
ORGANIZER;CN=:mailto:events@events.org
SEQUENCE:0
SUMMARY:LADIES NIGHT WITH DJ POOTIECAT! // R&B / HIP HOP / BAILE / CLUB
UID:da0d02bd-cd28-4be1-ac85-49721080717f
URL:https://events.org/e/LADIES-NIGHT-WITH-DJ-POOTIECAT-RB-HIP-HOP-BAI/VQY
 JGSQS
BEGIN:VALARM
ACTION:DISPLAY
SUMMARY:Reminder
TRIGGER:-P1D
END:VALARM
END:VEVENT
END:VCALENDAR
