BEGIN:VCALENDAR
METHOD:REQUEST
PRODID:-//events.orgNONSGML ical.net 4.0//EN
VERSION:2.0
BEGIN:VEVENT
DTEND;VALUE=DATE:20260515
DTSTAMP:20260423T133938Z
DTSTART;VALUE=DATE:20260515
LOCATION:Union Transfer\, Philadelphia
ORGANIZER;CN=:mailto:events@events.org
SEQUENCE:0
SUMMARY:They Might Be Giants (16+)
UID:016a91cc-aa77-4eb9-b700-3e9e40cecc72
URL:https://events.org/e/They-Might-Be-Giants-16/UDC2T3UN
BEGIN:VALARM
ACTION:DISPLAY
SUMMARY:Reminder
TRIGGER:-P1D
END:VALARM
END:VEVENT
END:VCALENDAR
