BEGIN:VCALENDAR
METHOD:REQUEST
PRODID:-//events.orgNONSGML ical.net 4.0//EN
VERSION:2.0
BEGIN:VEVENT
DTEND;VALUE=DATE:20260510
DTSTAMP:20260423T133531Z
DTSTART;VALUE=DATE:20260510
LOCATION:Fox Theatre - Atlanta\, Atlanta
ORGANIZER;CN=:mailto:events@events.org
SEQUENCE:0
SUMMARY:Xscape w/ K. Michelle
UID:1378a9a9-8220-4552-9138-7694843d7b90
URL:https://events.org/e/Xscape-w-K-Michelle/TEJMYR28
BEGIN:VALARM
ACTION:DISPLAY
SUMMARY:Reminder
TRIGGER:-P1D
END:VALARM
END:VEVENT
END:VCALENDAR
