BEGIN:VCALENDAR
METHOD:REQUEST
PRODID:-//events.orgNONSGML ical.net 4.0//EN
VERSION:2.0
BEGIN:VEVENT
DTEND;VALUE=DATE:20260507
DTSTAMP:20260419T170508Z
DTSTART;VALUE=DATE:20260507
LOCATION:The Comedy Store (Original Room)\, Los Angeles
ORGANIZER;CN=:mailto:events@events.org
SEQUENCE:0
SUMMARY:Netflix Is A Joke Presents: Cristela\, Francisco\, Daniela en Espa
 ñol
UID:359e9891-219b-4a2d-b19b-4cc892ccab62
URL:https://events.org/e/Netflix-Is-A-Joke-Presents-Cristela-Francisco/SKY
 DTBH8
BEGIN:VALARM
ACTION:DISPLAY
SUMMARY:Reminder
TRIGGER:-P1D
END:VALARM
END:VEVENT
END:VCALENDAR
