BEGIN:VCALENDAR
METHOD:REQUEST
PRODID:-//events.orgNONSGML ical.net 4.0//EN
VERSION:2.0
BEGIN:VEVENT
DTEND;VALUE=DATE:20260706
DTSTAMP:20260422T090108Z
DTSTART;VALUE=DATE:20260706
LOCATION:Lumen Field\, Seattle
ORGANIZER;CN=:mailto:events@events.org
SEQUENCE:0
SUMMARY:World Cup Round of 16: W81 vs. W82 (Match 94)
UID:0748c5d5-ad25-4f52-9d72-822de8d3892d
URL:https://events.org/e/World-Cup-Round-of-16-W81-vs-W82-Match-94/MSRKV97N
BEGIN:VALARM
ACTION:DISPLAY
SUMMARY:Reminder
TRIGGER:-P1D
END:VALARM
END:VEVENT
END:VCALENDAR
