BEGIN:VCALENDAR
METHOD:REQUEST
PRODID:-//events.orgNONSGML ical.net 4.0//EN
VERSION:2.0
BEGIN:VEVENT
DTEND;VALUE=DATE:20260523
DTSTAMP:20260424T080545Z
DTSTART;VALUE=DATE:20260523
LOCATION:Blue Note Los Angeles\, Los Angeles
ORGANIZER;CN=:mailto:events@events.org
SEQUENCE:0
SUMMARY:Chris Botti
UID:1a08dda0-9722-4ef1-9ba0-5cf234dd5338
URL:https://events.org/e/Chris-Botti/FTE3LNV8
BEGIN:VALARM
ACTION:DISPLAY
SUMMARY:Reminder
TRIGGER:-P1D
END:VALARM
END:VEVENT
END:VCALENDAR
