BEGIN:VCALENDAR
METHOD:REQUEST
PRODID:-//events.orgNONSGML ical.net 4.0//EN
VERSION:2.0
BEGIN:VEVENT
DTEND;VALUE=DATE:20260601
DTSTAMP:20260421T082346Z
DTSTART;VALUE=DATE:20260601
LOCATION:The Chapel\, San Francisco
ORGANIZER;CN=:mailto:events@events.org
SEQUENCE:0
SUMMARY:aja monet
UID:4770aaa4-f66a-4581-9c53-51b619991b8c
URL:https://events.org/e/aja-monet/VRPMK3OL
BEGIN:VALARM
ACTION:DISPLAY
SUMMARY:Reminder
TRIGGER:-P1D
END:VALARM
END:VEVENT
END:VCALENDAR
