BEGIN:VCALENDAR
METHOD:REQUEST
PRODID:-//events.orgNONSGML ical.net 4.0//EN
VERSION:2.0
BEGIN:VEVENT
DTEND;VALUE=DATE:20260706
DTSTAMP:20260422T091023Z
DTSTART;VALUE=DATE:20260706
LOCATION:State Farm Arena\, Atlanta
ORGANIZER;CN=:mailto:events@events.org
SEQUENCE:0
SUMMARY:Ariana Grande - The Eternal Sunshine Tour
UID:65408499-2c67-4e42-a4ac-7dc37bdf6160
URL:https://events.org/e/Ariana-Grande---The-Eternal-Sunshine-Tour/9RBQ88YG
BEGIN:VALARM
ACTION:DISPLAY
SUMMARY:Reminder
TRIGGER:-P1D
END:VALARM
END:VEVENT
END:VCALENDAR
