BEGIN:VCALENDAR
METHOD:REQUEST
PRODID:-//events.orgNONSGML ical.net 4.0//EN
VERSION:2.0
BEGIN:VEVENT
DTEND;VALUE=DATE:20260604
DTSTAMP:20260421T115126Z
DTSTART;VALUE=DATE:20260604
LOCATION:Echostage\, Washington
ORGANIZER;CN=:mailto:events@events.org
SEQUENCE:0
SUMMARY:Adobo Presents: Ivy Queen
UID:1b6371a4-f37b-42c9-975d-57160a062a0c
URL:https://events.org/e/Adobo-Presents-Ivy-Queen/BKDHT33J
BEGIN:VALARM
ACTION:DISPLAY
SUMMARY:Reminder
TRIGGER:-P1D
END:VALARM
END:VEVENT
END:VCALENDAR
