BEGIN:VCALENDAR
METHOD:REQUEST
PRODID:-//events.orgNONSGML ical.net 4.0//EN
VERSION:2.0
BEGIN:VEVENT
DTEND;VALUE=DATE:20260707
DTSTAMP:20260422T091649Z
DTSTART;VALUE=DATE:20260707
LOCATION:Mercedes-Benz Stadium\, Atlanta
ORGANIZER;CN=:mailto:events@events.org
SEQUENCE:0
SUMMARY:World Cup Round of 16: W86 vs. W88 (Match 95)
UID:ecefb72d-db2a-4114-8163-7f22ff34d4e3
URL:https://events.org/e/World-Cup-Round-of-16-W86-vs-W88-Match-95/HS2K4TPK
BEGIN:VALARM
ACTION:DISPLAY
SUMMARY:Reminder
TRIGGER:-P1D
END:VALARM
END:VEVENT
END:VCALENDAR
