BEGIN:VCALENDAR
METHOD:REQUEST
PRODID:-//events.orgNONSGML ical.net 4.0//EN
VERSION:2.0
BEGIN:VEVENT
DTEND;VALUE=DATE:20260501
DTSTAMP:20260424T080551Z
DTSTART;VALUE=DATE:20260501
LOCATION:Three Links Deep Ellum\, Dallas
ORGANIZER;CN=:mailto:events@events.org
SEQUENCE:0
SUMMARY:Sneaker Ball Showcase
UID:a3771226-35b0-4dc1-a0a8-b33d9dbebc69
URL:https://events.org/e/Sneaker-Ball-Showcase/8YJMMVKB
BEGIN:VALARM
ACTION:DISPLAY
SUMMARY:Reminder
TRIGGER:-P1D
END:VALARM
END:VEVENT
END:VCALENDAR
