BEGIN:VCALENDAR
METHOD:REQUEST
PRODID:-//events.orgNONSGML ical.net 4.0//EN
VERSION:2.0
BEGIN:VEVENT
DTEND;VALUE=DATE:20260613
DTSTAMP:20260421T094327Z
DTSTART;VALUE=DATE:20260613
LOCATION:Punch Line Houston\, Houston
ORGANIZER;CN=:mailto:events@events.org
SEQUENCE:0
SUMMARY:Kev Herrera
UID:fab65e89-7789-465c-a81d-dc8f92a2c793
URL:https://events.org/e/Kev-Herrera/5QEQ6I5F
BEGIN:VALARM
ACTION:DISPLAY
SUMMARY:Reminder
TRIGGER:-P1D
END:VALARM
END:VEVENT
END:VCALENDAR
