BEGIN:VCALENDAR
METHOD:REQUEST
PRODID:-//events.orgNONSGML ical.net 4.0//EN
VERSION:2.0
BEGIN:VEVENT
DTEND;VALUE=DATE:20260915
DTSTAMP:20260422T091353Z
DTSTART;VALUE=DATE:20260915
LOCATION:The Foundry\, Philadelphia
ORGANIZER;CN=:mailto:events@events.org
SEQUENCE:0
SUMMARY:Wax + DJ Hoppa
UID:711e4742-46bb-4154-9385-7e68098bbb43
URL:https://events.org/e/Wax-DJ-Hoppa/KWB92WYH
BEGIN:VALARM
ACTION:DISPLAY
SUMMARY:Reminder
TRIGGER:-P1D
END:VALARM
END:VEVENT
END:VCALENDAR
