BEGIN:VCALENDAR
METHOD:REQUEST
PRODID:-//events.orgNONSGML ical.net 4.0//EN
VERSION:2.0
BEGIN:VEVENT
DTEND;VALUE=DATE:20260425
DTSTAMP:20260422T084344Z
DTSTART;VALUE=DATE:20260425
LOCATION:Iridium\, New York
ORGANIZER;CN=:mailto:events@events.org
SEQUENCE:0
SUMMARY:Doc Powell
UID:70e8b11b-0ac2-4f65-b0dd-43daf9bbd5fa
URL:https://events.org/e/Doc-Powell/7JBY66LT
BEGIN:VALARM
ACTION:DISPLAY
SUMMARY:Reminder
TRIGGER:-P1D
END:VALARM
END:VEVENT
END:VCALENDAR
