BEGIN:VCALENDAR
METHOD:REQUEST
PRODID:-//events.orgNONSGML ical.net 4.0//EN
VERSION:2.0
BEGIN:VEVENT
DTEND;VALUE=DATE:20260603
DTSTAMP:20260421T104445Z
DTSTART;VALUE=DATE:20260603
LOCATION:Truist Park\, Atlanta
ORGANIZER;CN=:mailto:events@events.org
SEQUENCE:0
SUMMARY:Atlanta Braves vs. Toronto Blue Jays
UID:9ed17da5-527f-4cb3-829c-ac5f8f80860c
URL:https://events.org/e/Atlanta-Braves-vs-Toronto-Blue-Jays/K245DFL8
BEGIN:VALARM
ACTION:DISPLAY
SUMMARY:Reminder
TRIGGER:-P1D
END:VALARM
END:VEVENT
END:VCALENDAR
