BEGIN:VCALENDAR
METHOD:REQUEST
PRODID:-//events.orgNONSGML ical.net 4.0//EN
VERSION:2.0
BEGIN:VEVENT
DTEND;VALUE=DATE:20260425
DTSTAMP:20260422T090646Z
DTSTART;VALUE=DATE:20260425
LOCATION:Racket NYC\, New York
ORGANIZER;CN=:mailto:events@events.org
SEQUENCE:0
SUMMARY:GOLDEN: A K-Pop Party - All Ages (under 16 with adult)
UID:2ae1df7d-e766-4cd5-80b1-64cae84d5c6d
URL:https://events.org/e/GOLDEN-A-K-Pop-Party---All-Ages-under-16-with/G6E
 I36XQ
BEGIN:VALARM
ACTION:DISPLAY
SUMMARY:Reminder
TRIGGER:-P1D
END:VALARM
END:VEVENT
END:VCALENDAR
