BEGIN:VCALENDAR
METHOD:REQUEST
PRODID:-//events.orgNONSGML ical.net 4.0//EN
VERSION:2.0
BEGIN:VEVENT
DTEND;VALUE=DATE:20260621
DTSTAMP:20260419T142935Z
DTSTART;VALUE=DATE:20260621
LOCATION:Brighton Music Hall presented by Citizens\, Boston
ORGANIZER;CN=:mailto:events@events.org
SEQUENCE:0
SUMMARY:Snor
UID:ae1c81a4-352a-4b36-99e2-c6b5809a70f9
URL:https://events.org/e/Snor/EC2TK96Q
BEGIN:VALARM
ACTION:DISPLAY
SUMMARY:Reminder
TRIGGER:-P1D
END:VALARM
END:VEVENT
END:VCALENDAR
