BEGIN:VCALENDAR
METHOD:REQUEST
PRODID:-//events.orgNONSGML ical.net 4.0//EN
VERSION:2.0
BEGIN:VEVENT
DTEND;VALUE=DATE:20260616
DTSTAMP:20260424T092055Z
DTSTART;VALUE=DATE:20260616
LOCATION:The Fillmore\, San Francisco
ORGANIZER;CN=:mailto:events@events.org
SEQUENCE:0
SUMMARY:Corbyn Besson and Soulidified: The Pop'n Out Tour
UID:24d2a8ec-32c3-4eb8-af9d-d75a252f9b6b
URL:https://events.org/e/Corbyn-Besson-and-Soulidified-The-Popn-Out-Tour/T
 K59YJLA
BEGIN:VALARM
ACTION:DISPLAY
SUMMARY:Reminder
TRIGGER:-P1D
END:VALARM
END:VEVENT
END:VCALENDAR
