BEGIN:VCALENDAR
METHOD:REQUEST
PRODID:-//events.orgNONSGML ical.net 4.0//EN
VERSION:2.0
BEGIN:VEVENT
DTEND;VALUE=DATE:20260530
DTSTAMP:20260421T215203Z
DTSTART;VALUE=DATE:20260530
LOCATION:Truist Park\, Atlanta
ORGANIZER;CN=:mailto:events@events.org
SEQUENCE:0
SUMMARY:Tours: Truist Park
UID:6872c62a-1a60-466f-8abc-d9b5ec8a3877
URL:https://events.org/e/Tours-Truist-Park/LGHGCXGT
BEGIN:VALARM
ACTION:DISPLAY
SUMMARY:Reminder
TRIGGER:-P1D
END:VALARM
END:VEVENT
END:VCALENDAR
