BEGIN:VCALENDAR
METHOD:REQUEST
PRODID:-//events.orgNONSGML ical.net 4.0//EN
VERSION:2.0
BEGIN:VEVENT
DTEND;VALUE=DATE:20260601
DTSTAMP:20260424T092725Z
DTSTART;VALUE=DATE:20260601
LOCATION:Cafe Du Nord\, San Francisco
ORGANIZER;CN=:mailto:events@events.org
SEQUENCE:0
SUMMARY:Kyle Gass Company
UID:7d132057-df56-45e5-8366-f8d48a4bcdf5
URL:https://events.org/e/Kyle-Gass-Company/DF6VJC8U
BEGIN:VALARM
ACTION:DISPLAY
SUMMARY:Reminder
TRIGGER:-P1D
END:VALARM
END:VEVENT
END:VCALENDAR
