BEGIN:VCALENDAR
METHOD:REQUEST
PRODID:-//events.orgNONSGML ical.net 4.0//EN
VERSION:2.0
BEGIN:VEVENT
DTEND;VALUE=DATE:20260625
DTSTAMP:20260419T142914Z
DTSTART;VALUE=DATE:20260625
LOCATION:Fenway Park\, Boston
ORGANIZER;CN=:mailto:events@events.org
SEQUENCE:0
SUMMARY:Boston Red Sox vs. New York Yankees
UID:ef929b05-a6cb-4d84-bd15-799cde8a9bf2
URL:https://events.org/e/Boston-Red-Sox-vs-New-York-Yankees/B7SHDRFF
BEGIN:VALARM
ACTION:DISPLAY
SUMMARY:Reminder
TRIGGER:-P1D
END:VALARM
END:VEVENT
END:VCALENDAR
