BEGIN:VCALENDAR
METHOD:REQUEST
PRODID:-//events.orgNONSGML ical.net 4.0//EN
VERSION:2.0
BEGIN:VEVENT
DTEND;VALUE=DATE:20260501
DTSTAMP:20260424T080846Z
DTSTART;VALUE=DATE:20260501
LOCATION:South Side Music Hall\, Dallas
ORGANIZER;CN=:mailto:events@events.org
SEQUENCE:0
SUMMARY:One Direction Night
UID:93492932-2a64-4d5c-81af-304c943a00a1
URL:https://events.org/e/One-Direction-Night/EE8X7TQI
BEGIN:VALARM
ACTION:DISPLAY
SUMMARY:Reminder
TRIGGER:-P1D
END:VALARM
END:VEVENT
END:VCALENDAR
