BEGIN:VCALENDAR
METHOD:REQUEST
PRODID:-//events.orgNONSGML ical.net 4.0//EN
VERSION:2.0
BEGIN:VEVENT
DTEND;VALUE=DATE:20260629
DTSTAMP:20260421T103946Z
DTSTART;VALUE=DATE:20260629
LOCATION:Chase Field\, Phoenix
ORGANIZER;CN=:mailto:events@events.org
SEQUENCE:0
SUMMARY:Arizona Diamondbacks vs. San Francisco Giants
UID:171c1159-d3ac-4a54-9ae9-82014bd5999f
URL:https://events.org/e/Arizona-Diamondbacks-vs-San-Francisco-Giants/8GE8
 U3QJ
BEGIN:VALARM
ACTION:DISPLAY
SUMMARY:Reminder
TRIGGER:-P1D
END:VALARM
END:VEVENT
END:VCALENDAR
