BEGIN:VCALENDAR
METHOD:REQUEST
PRODID:-//events.orgNONSGML ical.net 4.0//EN
VERSION:2.0
BEGIN:VEVENT
DTEND;VALUE=DATE:20260711
DTSTAMP:20260421T104012Z
DTSTART;VALUE=DATE:20260711
LOCATION:Casbah-San Diego\, San Diego
ORGANIZER;CN=:mailto:events@events.org
SEQUENCE:0
SUMMARY:Kid Galahad and the Eternals
UID:5acdb0ee-7c8a-49cc-ba1d-6d27d99ee440
URL:https://events.org/e/Kid-Galahad-and-the-Eternals/HRQA9YOI
BEGIN:VALARM
ACTION:DISPLAY
SUMMARY:Reminder
TRIGGER:-P1D
END:VALARM
END:VEVENT
END:VCALENDAR
