BEGIN:VCALENDAR
METHOD:REQUEST
PRODID:-//events.orgNONSGML ical.net 4.0//EN
VERSION:2.0
BEGIN:VEVENT
DTEND;VALUE=DATE:20260423
DTSTAMP:20260422T090646Z
DTSTART;VALUE=DATE:20260423
LOCATION:Jacobs Theatre-NY\, New York
ORGANIZER;CN=:mailto:events@events.org
SEQUENCE:0
SUMMARY:The Outsiders
UID:40a7c34e-16d6-4a5b-b541-f4c1b724de88
URL:https://events.org/e/The-Outsiders/5SVBPGGT
BEGIN:VALARM
ACTION:DISPLAY
SUMMARY:Reminder
TRIGGER:-P1D
END:VALARM
END:VEVENT
END:VCALENDAR
