BEGIN:VCALENDAR
METHOD:REQUEST
PRODID:-//events.orgNONSGML ical.net 4.0//EN
VERSION:2.0
BEGIN:VEVENT
DTEND;VALUE=DATE:20260508
DTSTAMP:20260423T133632Z
DTSTART;VALUE=DATE:20260508
LOCATION:The Comedy Store (Original Room)\, Los Angeles
ORGANIZER;CN=:mailto:events@events.org
SEQUENCE:0
SUMMARY:Netflix Is A Joke Presents: Joe Derosa
UID:8ff37182-4e28-4258-b6de-83598a54def8
URL:https://events.org/e/Netflix-Is-A-Joke-Presents-Joe-Derosa/Q62L432F
BEGIN:VALARM
ACTION:DISPLAY
SUMMARY:Reminder
TRIGGER:-P1D
END:VALARM
END:VEVENT
END:VCALENDAR
