BEGIN:VCALENDAR
METHOD:REQUEST
PRODID:-//events.orgNONSGML ical.net 4.0//EN
VERSION:2.0
BEGIN:VEVENT
DTEND;VALUE=DATE:20260405
DTSTAMP:20260421T082207Z
DTSTART;VALUE=DATE:20260405
LOCATION:Gil Cates Theater- Geffen Playhouse\, Los Angeles
ORGANIZER;CN=:mailto:events@events.org
SEQUENCE:0
SUMMARY:Dragon Mama
UID:6d83208a-7c24-47d6-8e84-4a5ed4e97db6
URL:https://events.org/e/Dragon-Mama/TJMMX3AD
BEGIN:VALARM
ACTION:DISPLAY
SUMMARY:Reminder
TRIGGER:-P1D
END:VALARM
END:VEVENT
END:VCALENDAR
