BEGIN:VCALENDAR
METHOD:REQUEST
PRODID:-//events.orgNONSGML ical.net 4.0//EN
VERSION:2.0
BEGIN:VEVENT
DTEND;VALUE=DATE:20260523
DTSTAMP:20260422T091503Z
DTSTART;VALUE=DATE:20260523
LOCATION:Nikki Lopez Philly\, Philadelphia
ORGANIZER;CN=:mailto:events@events.org
SEQUENCE:0
SUMMARY:Otto and Astrid : The Stages Tour
UID:1531e44f-87c1-4b38-b137-da5daea2e97a
URL:https://events.org/e/Otto-and-Astrid-The-Stages-Tour/UQ8ED9VF
BEGIN:VALARM
ACTION:DISPLAY
SUMMARY:Reminder
TRIGGER:-P1D
END:VALARM
END:VEVENT
END:VCALENDAR
