BEGIN:VCALENDAR
METHOD:REQUEST
PRODID:-//events.orgNONSGML ical.net 4.0//EN
VERSION:2.0
BEGIN:VEVENT
DTEND;VALUE=DATE:20260422
DTSTAMP:20260422T091649Z
DTSTART;VALUE=DATE:20260422
LOCATION:Bowery Ballroom\, New York
ORGANIZER;CN=:mailto:events@events.org
SEQUENCE:0
SUMMARY:Zinadelphia: Zina's Boutique
UID:23317776-533d-4c70-b7a4-16b5c864f8d1
URL:https://events.org/e/Zinadelphia-Zinas-Boutique/JTR87C8Y
BEGIN:VALARM
ACTION:DISPLAY
SUMMARY:Reminder
TRIGGER:-P1D
END:VALARM
END:VEVENT
END:VCALENDAR
