BEGIN:VCALENDAR
METHOD:REQUEST
PRODID:-//events.orgNONSGML ical.net 4.0//EN
VERSION:2.0
BEGIN:VEVENT
DTEND;VALUE=DATE:20260708
DTSTAMP:20260421T103600Z
DTSTART;VALUE=DATE:20260708
LOCATION:TD Garden\, Boston
ORGANIZER;CN=:mailto:events@events.org
SEQUENCE:0
SUMMARY:Lionel Richie and Earth\, Wind & Fire - Sing a Song All Night Long
UID:1e3b703d-ae5c-43c3-94f8-5e2282f89b03
URL:https://events.org/e/Lionel-Richie-and-Earth-Wind-Fire---Sing-a-So/8BA
 UACSS
BEGIN:VALARM
ACTION:DISPLAY
SUMMARY:Reminder
TRIGGER:-P1D
END:VALARM
END:VEVENT
END:VCALENDAR
