BEGIN:VCALENDAR
METHOD:REQUEST
PRODID:-//events.orgNONSGML ical.net 4.0//EN
VERSION:2.0
BEGIN:VEVENT
DTEND;VALUE=DATE:20260613
DTSTAMP:20260422T091539Z
DTSTART;VALUE=DATE:20260613
LOCATION:Feinstein's at The Nikko\, San Francisco
ORGANIZER;CN=:mailto:events@events.org
SEQUENCE:0
SUMMARY:An Intimate Evening with Lorna Luft
UID:776e153b-894f-4470-9632-b1d788d30a9b
URL:https://events.org/e/An-Intimate-Evening-with-Lorna-Luft/4S9DC339
BEGIN:VALARM
ACTION:DISPLAY
SUMMARY:Reminder
TRIGGER:-P1D
END:VALARM
END:VEVENT
END:VCALENDAR
