BEGIN:VCALENDAR
METHOD:REQUEST
PRODID:-//events.orgNONSGML ical.net 4.0//EN
VERSION:2.0
BEGIN:VEVENT
DTEND;VALUE=DATE:20260423
DTSTAMP:20260422T090627Z
DTSTART;VALUE=DATE:20260423
LOCATION:John Golden Theatre\, New York
ORGANIZER;CN=:mailto:events@events.org
SEQUENCE:0
SUMMARY:Operation Mincemeat: A New Musical
UID:89c91e7c-00fd-4e36-b950-5fe52be61806
URL:https://events.org/e/Operation-Mincemeat-A-New-Musical/3PRT4OCP
BEGIN:VALARM
ACTION:DISPLAY
SUMMARY:Reminder
TRIGGER:-P1D
END:VALARM
END:VEVENT
END:VCALENDAR
