BEGIN:VCALENDAR
METHOD:REQUEST
PRODID:-//events.orgNONSGML ical.net 4.0//EN
VERSION:2.0
BEGIN:VEVENT
DTEND;VALUE=DATE:20260424
DTSTAMP:20260422T090541Z
DTSTART;VALUE=DATE:20260424
LOCATION:Broadhurst Theatre \, New York
ORGANIZER;CN=:mailto:events@events.org
SEQUENCE:0
SUMMARY:CATS: The Jellicle Ball
UID:16522b45-f5e8-425a-b0c4-f5471e0a6634
URL:https://events.org/e/CATS-The-Jellicle-Ball/WVQYXVRR
BEGIN:VALARM
ACTION:DISPLAY
SUMMARY:Reminder
TRIGGER:-P1D
END:VALARM
END:VEVENT
END:VCALENDAR
