BEGIN:VCALENDAR
METHOD:REQUEST
PRODID:-//events.orgNONSGML ical.net 4.0//EN
VERSION:2.0
BEGIN:VEVENT
DTEND;VALUE=DATE:20260615
DTSTAMP:20260423T133211Z
DTSTART;VALUE=DATE:20260615
LOCATION:Punch Line Houston\, Houston
ORGANIZER;CN=:mailto:events@events.org
SEQUENCE:0
SUMMARY:The Portuguese Kids present: Houston\, We Have a Festa!
UID:643f5259-fe91-4d0a-ab81-a0c8f19eea97
URL:https://events.org/e/The-Portuguese-Kids-present-Houston-We-Have-a/X3T
 IMLBT
BEGIN:VALARM
ACTION:DISPLAY
SUMMARY:Reminder
TRIGGER:-P1D
END:VALARM
END:VEVENT
END:VCALENDAR
