BEGIN:VCALENDAR
METHOD:REQUEST
PRODID:-//events.orgNONSGML ical.net 4.0//EN
VERSION:2.0
BEGIN:VEVENT
DTEND;VALUE=DATE:20260627
DTSTAMP:20260422T091936Z
DTSTART;VALUE=DATE:20260627
LOCATION:Nectar Lounge\, Seattle
ORGANIZER;CN=:mailto:events@events.org
SEQUENCE:0
SUMMARY:Eldridge Gravy & The Court Supreme
UID:8a7e62f3-fe8d-4119-91b9-cb2814c3c04b
URL:https://events.org/e/Eldridge-Gravy-The-Court-Supreme/V7VPT4D9
BEGIN:VALARM
ACTION:DISPLAY
SUMMARY:Reminder
TRIGGER:-P1D
END:VALARM
END:VEVENT
END:VCALENDAR
