BEGIN:VCALENDAR
METHOD:REQUEST
PRODID:-//events.orgNONSGML ical.net 4.0//EN
VERSION:2.0
BEGIN:VEVENT
DTEND;VALUE=DATE:20260601
DTSTAMP:20260421T081913Z
DTSTART;VALUE=DATE:20260601
LOCATION:Arizona Financial Theatre\, Phoenix
ORGANIZER;CN=:mailto:events@events.org
SEQUENCE:0
SUMMARY:Yellowcard: The Up Up Down Down Tour
UID:acc718a6-11b7-46e0-a8c1-87f70d875ee8
URL:https://events.org/e/Yellowcard-The-Up-Up-Down-Down-Tour/T6GQW7LS
BEGIN:VALARM
ACTION:DISPLAY
SUMMARY:Reminder
TRIGGER:-P1D
END:VALARM
END:VEVENT
END:VCALENDAR
