BEGIN:VCALENDAR
METHOD:REQUEST
PRODID:-//events.orgNONSGML ical.net 4.0//EN
VERSION:2.0
BEGIN:VEVENT
DTEND;VALUE=DATE:20260425
DTSTAMP:20260422T084830Z
DTSTART;VALUE=DATE:20260425
LOCATION:Berlin\, New York
ORGANIZER;CN=:mailto:events@events.org
SEQUENCE:0
SUMMARY:Bedpan Fight | The Underbites | Killdeer | Gift Shop
UID:2a856b89-aae0-4842-a8aa-81aaa70acca4
URL:https://events.org/e/Bedpan-Fight-The-Underbites-Killdeer-Gift-Shop/PL
 VIYJVT
BEGIN:VALARM
ACTION:DISPLAY
SUMMARY:Reminder
TRIGGER:-P1D
END:VALARM
END:VEVENT
END:VCALENDAR
