BEGIN:VCALENDAR
METHOD:REQUEST
PRODID:-//events.orgNONSGML ical.net 4.0//EN
VERSION:2.0
BEGIN:VEVENT
DTEND;VALUE=DATE:20260711
DTSTAMP:20260421T082000Z
DTSTART;VALUE=DATE:20260711
LOCATION:The Wilbur\, Boston
ORGANIZER;CN=:mailto:events@events.org
SEQUENCE:0
SUMMARY:Chris Fleming
UID:c36afba8-cf4e-4dac-acb9-2eb41674591d
URL:https://events.org/e/Chris-Fleming/QEAAIB3W
BEGIN:VALARM
ACTION:DISPLAY
SUMMARY:Reminder
TRIGGER:-P1D
END:VALARM
END:VEVENT
END:VCALENDAR
