BEGIN:VCALENDAR
METHOD:REQUEST
PRODID:-//events.orgNONSGML ical.net 4.0//EN
VERSION:2.0
BEGIN:VEVENT
DTEND;VALUE=DATE:20260425
DTSTAMP:20260423T153725Z
DTSTART;VALUE=DATE:20260425
LOCATION:Just the Funny\, Miami
ORGANIZER;CN=:mailto:events@events.org
SEQUENCE:0
SUMMARY:Cheap Trills Musical Improv
UID:7098cf0f-22ed-4faf-b96e-00c48b70517b
URL:https://events.org/e/Cheap-Trills-Musical-Improv/SS9KPF6G
BEGIN:VALARM
ACTION:DISPLAY
SUMMARY:Reminder
TRIGGER:-P1D
END:VALARM
END:VEVENT
END:VCALENDAR
